BEGIN:VCALENDAR
VERSION:2.0
PRODID:icalendar-ruby
CALSCALE:GREGORIAN
METHOD:PUBLISH
BEGIN:VTIMEZONE
TZID:Australia/Perth
BEGIN:STANDARD
DTSTART:20090329T020000
TZOFFSETFROM:+0900
TZOFFSETTO:+0800
TZNAME:AWST
END:STANDARD
END:VTIMEZONE
BEGIN:VEVENT
DTSTAMP:20200229T111502Z
UID:inspection_722406
DTSTART;TZID=Australia/Perth:20200301T120000
DTEND;TZID=Australia/Perth:20200301T123000
CLASS:PUBLIC
CREATED:20200221T114526
DESCRIPTION: 
LAST-MODIFIED:20200225T175332
LOCATION:6 / 110 Terrace Road\, GUILDFORD WA 6055\, Australia
SUMMARY:6 / 110 Terrace Road\,  Inspection
URL:http://www.lennoxrealty.com.au
END:VEVENT
END:VCALENDAR
